BEGIN:VCALENDAR
VERSION:2.0
PRODID:-//New You Spa - ECPv5.15.0.1//NONSGML v1.0//EN
CALSCALE:GREGORIAN
METHOD:PUBLISH
X-WR-CALNAME:New You Spa
X-ORIGINAL-URL:https://newyou.beauty
X-WR-CALDESC:Events for New You Spa
REFRESH-INTERVAL;VALUE=DURATION:PT1H
X-Robots-Tag:noindex
X-PUBLISHED-TTL:PT1H
BEGIN:VTIMEZONE
TZID:America/Toronto
BEGIN:DAYLIGHT
TZOFFSETFROM:-0500
TZOFFSETTO:-0400
TZNAME:EDT
DTSTART:20190310T070000
END:DAYLIGHT
BEGIN:STANDARD
TZOFFSETFROM:-0400
TZOFFSETTO:-0500
TZNAME:EST
DTSTART:20191103T060000
END:STANDARD
BEGIN:DAYLIGHT
TZOFFSETFROM:-0500
TZOFFSETTO:-0400
TZNAME:EDT
DTSTART:20200308T070000
END:DAYLIGHT
BEGIN:STANDARD
TZOFFSETFROM:-0400
TZOFFSETTO:-0500
TZNAME:EST
DTSTART:20201101T060000
END:STANDARD
BEGIN:DAYLIGHT
TZOFFSETFROM:-0500
TZOFFSETTO:-0400
TZNAME:EDT
DTSTART:20210314T070000
END:DAYLIGHT
BEGIN:STANDARD
TZOFFSETFROM:-0400
TZOFFSETTO:-0500
TZNAME:EST
DTSTART:20211107T060000
END:STANDARD
BEGIN:DAYLIGHT
TZOFFSETFROM:-0500
TZOFFSETTO:-0400
TZNAME:EDT
DTSTART:20220313T070000
END:DAYLIGHT
BEGIN:STANDARD
TZOFFSETFROM:-0400
TZOFFSETTO:-0500
TZNAME:EST
DTSTART:20221106T060000
END:STANDARD
END:VTIMEZONE
BEGIN:VEVENT
DTSTART;TZID=America/Toronto:20220813T100000
DTEND;TZID=America/Toronto:20220813T170000
DTSTAMP:20260421T211313
CREATED:20220810T084322Z
LAST-MODIFIED:20220818T143323Z
UID:11424-1660384800-1660410000@newyou.beauty
SUMMARY:Bianco Angels White Affair
DESCRIPTION:Why Join Us?\n\nWe are bringing never before seen\, exclusive pricing.\nBring a friend and share a package together.\nWatch treatments live and hear from real patients.\nOur professional team of aesthetic nurses will be on-site to give expert advice on the best beauty solutions for you.\nA chance to get access to our VIP after-party with live entertainment\, cocktails and hors d’oeuvres.\n\n[elementor-template id=”11429″]
URL:https://newyou.beauty/events/bianco-angels-white-affair/
CATEGORIES:Future Events
ATTACH;FMTTYPE=image/jpeg:https://newyou.beauty/wp-content/uploads/2022/08/white_affair.jpg
ORGANIZER;CN="New%20You%20Spa":MAILTO:burlington@newyouspas.com
END:VEVENT
BEGIN:VEVENT
DTSTART;TZID=America/Toronto:20211126T060000
DTEND;TZID=America/Toronto:20211126T160000
DTSTAMP:20260421T211313
CREATED:20211122T151130Z
LAST-MODIFIED:20211125T021746Z
UID:10268-1637906400-1637942400@newyou.beauty
SUMMARY:Burlington Black Friday Gala
DESCRIPTION:New You Cosmetic Centres Invites You To The:\nBiggest Black Friday Gala at our Stunning Burlington Location\n\nJoin us:\nFriday\, November 26th\, 2021\n12PM-10PM  @ 701 Brant Street\, Burlington ON\n\nBLACK FRIDAY SPECIALS AVAILABLE\n\nWhat To Expect:\n\nPersonalized consultations\nExclusive gala pricing\nLive music & entertainment\nGifts & Giveaways\nChampagne and Hor D’oeuvres\n\n\nBring A Guest\, Get A Gift!\nBRING A GUEST WHO PURCHASES & RECEIVE A $300 GIFT CARD THAT YOU CAN USE TOWARDS YOUR NEXT PURCHASE.\nDon’t miss special pricing and exclusive deals.\n*Terms and Conditions Apply\n\nWe can’t wait to see you there!\nCALL TODAY TO LEARN MORE AND RESERVE YOUR SPOT\n905.637.7707
URL:https://newyou.beauty/events/burlington-black-friday-gala/
LOCATION:701 Brant Street\, Burlington\, Ontario L7R 2H4 Canada\, Burlington\, Ontario \, L7R 2H4
CATEGORIES:Future Events
ATTACH;FMTTYPE=image/png:https://newyou.beauty/wp-content/uploads/2021/11/header.png
ORGANIZER;CN="New%20You%20Spa":MAILTO:burlington@newyouspas.com
END:VEVENT
BEGIN:VEVENT
DTSTART;TZID=America/Toronto:20211016T070000
DTEND;TZID=America/Toronto:20211016T140000
DTSTAMP:20260421T211313
CREATED:20211014T210642Z
LAST-MODIFIED:20211014T211418Z
UID:9230-1634367600-1634392800@newyou.beauty
SUMMARY:Yorkville Clinic Grand Opening
DESCRIPTION:New You Cosmetic Centres Invites You To Our: \nYorkville Location Grand Opening \nBe one of the first to discover our stunning NEW Location in Yorkville \nJoin us:\nSaturday\, October 16\, 2021\n12PM-7PM  @ 136 Cumberland Street \nEveryone in attendance will receive a $250 Gift Card*.\nDon’t Miss Special Pricing and Exclusive Deals \nWhat To Expect: \n\nTour our newly built & luxurious\, cosmetic clinic in the heart of Yorkville\nTake advantage of awesome Grand Opening Specials\nGifts & Giveaways\nLive Demonstrations\nLive Music And Entertainment\nCocktails and Hors d’oueveres by Sofia\n\nWe can’t wait to see you there! \nCALL TODAY TO LEARN MORE AND RESERVE YOUR SPOT \n416-975-0263
URL:https://newyou.beauty/events/yorkvillegrandopening/
LOCATION:136 Cumberland Street\, 136 Cumberland St.\, Toronto\, Ontario\, M5R 1A6\, Canada
CATEGORIES:Future Events
ATTACH;FMTTYPE=image/jpeg:https://newyou.beauty/wp-content/uploads/2021/10/100917_Logic_of_Sound_Produ_NEW_YOU_-_YORKVILLE_MAILER-01_shorter-e1635267262540.jpg
ORGANIZER;CN="New%20You%20Spa":MAILTO:burlington@newyouspas.com
END:VEVENT
BEGIN:VEVENT
DTSTART;TZID=America/Toronto:20210828T060000
DTEND;TZID=America/Toronto:20210828T130000
DTSTAMP:20260421T211313
CREATED:20210823T004918Z
LAST-MODIFIED:20210826T013617Z
UID:8153-1630130400-1630155600@newyou.beauty
SUMMARY:Yorkville Clinic Soft Opening
DESCRIPTION:New You Cosmetic Centres Invites You To Our: \nYorkville Soft Opening \nDiscover our stunning NEW Location in Yorkville \nJoin us:\nSaturday\, August 28th\, 2021\n11AM-6PM  @ 136 Cumberland Street \nThe First 100 Guests to attend will receive a $250 Gift Card*.\n(Gift card can only be used as credit towards New You services during the event. \nWhat To Expect: \n\nEnjoy one-day-only\, special event pricing on treatments and services.\nTour our newly built cosmetic centre.\nMeet our team\, offering FREE CONSULTATIONS.\nRequested services available (on-site).\nLive Demonstrations\n\nThe choice is all yours… You deserve this! \nWe can’t wait to see you there! \nCALL TODAY TO LEARN MORE AND RESERVE YOUR FREE CONSULTATION \n416-975-0263
URL:https://newyou.beauty/events/yvsoftopening/
LOCATION:136 Cumberland Street\, 136 Cumberland St.\, Toronto\, Ontario\, M5R 1A6\, Canada
CATEGORIES:Future Events
ATTACH;FMTTYPE=image/jpeg:https://newyou.beauty/wp-content/uploads/2021/08/YorkvilleSoftOpeningThumbnail.jpg
ORGANIZER;CN="New%20You%20Spa":MAILTO:burlington@newyouspas.com
END:VEVENT
BEGIN:VEVENT
DTSTART;TZID=America/Toronto:20210814T050000
DTEND;TZID=America/Toronto:20210814T120000
DTSTAMP:20260421T211313
CREATED:20210731T010433Z
LAST-MODIFIED:20210812T214952Z
UID:8079-1628917200-1628942400@newyou.beauty
SUMMARY:Beauty Personalized White Affair (Pop-Up Event)
DESCRIPTION:Beauty Personalized White Affair – Pop-Up Event: \nONE DAY OF BEAUTY \nRSVP HERE: https://newyouspas.wishpondpages.com/landing-page-2640665/ \nThe Best Beauty Event of 2021 \nSaturday\, August 14th\, 2021 – 10Am – 5PM \nWhat To Expect: \n\nOne Stop Shop – One Day Only: One day popup beauty event\, giving you access to all the latest treatments and exclusive pricing.\nPersonalized Beauty Solutions For Everyone: We offer a wide range of services. Our expert team of aesthetic nurses will be on-site to give expert advice on what’s best for you. If you’re not sure what’s best. We will help!\nMeet The Future Of Cosmetic Beauty: Don’t miss out on this opportunity to discover the latest in cosmetic beauty treatments.\nBe our guest and get $500* credit to spend at the event\n\n*/ Terms and conditions apply\, $500 credit will be applied to select packages
URL:https://newyou.beauty/events/beauty-personalized-white-affair-pop-up-event/
CATEGORIES:Future Events
ORGANIZER;CN="New%20You%20Spa":MAILTO:burlington@newyouspas.com
END:VEVENT
BEGIN:VEVENT
DTSTART;TZID=America/Toronto:20201031T070000
DTEND;TZID=America/Toronto:20201031T160000
DTSTAMP:20260421T211313
CREATED:20200909T194636Z
LAST-MODIFIED:20201027T011052Z
UID:5174-1604127600-1604160000@newyou.beauty
SUMMARY:Treats Not Tricks! Join Us This Halloween! - All Locations
DESCRIPTION:What Will Be Happening: \n\nWe Are Offering Very Scary Specials! 30% OFF! 50% OFF! 70% OFF!\nBooo-Toxin Specials (Scare The Wrinkles Away)\nFill With Restylane (Get Your Lips\, Cheeks and Chin Sculpted)\nThe Vampire Special (A Deal To Die For)\nScare Your Hair Away With Laser Hair (With 5 Year Results)\nFat Burner Deals (With Treat Until Complete Promise)\nGet A Devilish $250 Treat (With Purchase)\n\n\nRSVP & Enter To Win A $500 “Injectable In A Cream” Kit *Winners will be announced November 3rd\n\n\nAcross All Clinics! Please CALL TO BOOK\n\n\nOct 29 – Burlington (905.637.7707)\nOct 31 – Davisville (416.487.7848)\nOct 31 – Yorkville (416.975.0263)\nOct 31 – Woodbridge (905.264.9504)\nOct 31 – Port Credit (905.823.0772)\nOct 31 – Queen (416.205.1119)\nOct 31 – Richmond Hill (905.508.8883)
URL:https://newyou.beauty/events/limited-time-offer-employee-only-pricing-yorkville/
CATEGORIES:Future Events
ATTACH;FMTTYPE=image/jpeg:https://newyou.beauty/wp-content/uploads/2020/09/HEADER.jpg
ORGANIZER;CN="New%20You%20Spa":MAILTO:burlington@newyouspas.com
END:VEVENT
BEGIN:VEVENT
DTSTART;TZID=America/Toronto:20200608T040000
DTEND;TZID=America/Toronto:20200610T130000
DTSTAMP:20260421T211313
CREATED:20200909T194935Z
LAST-MODIFIED:20200909T195257Z
UID:5177-1591588800-1591794000@newyou.beauty
SUMMARY:Limited Time Offer: Employee Only Pricing.
DESCRIPTION:
URL:https://newyou.beauty/events/limited-time-offer-employee-only-pricing/
LOCATION:Limited Time Offer: Employee Only Pricing.\, House Of The Hill\, Woodbridge Ontario 4599 Langstaff Rd\, Canada
CATEGORIES:Future Events
ATTACH;FMTTYPE=image/jpeg:https://newyou.beauty/wp-content/uploads/2020/06/2McHzqzLzi.jpg
ORGANIZER;CN="New%20You%20Spa":MAILTO:burlington@newyouspas.com
END:VEVENT
BEGIN:VEVENT
DTSTART;TZID=America/Toronto:20190602T070000
DTEND;TZID=America/Toronto:20190602T160000
DTSTAMP:20260421T211313
CREATED:20200909T195230Z
LAST-MODIFIED:20200909T195307Z
UID:5181-1559458800-1559491200@newyou.beauty
SUMMARY:Limited Time Offer: Employee Only Pricing - Port Credit.
DESCRIPTION:What Will Be Happening: \n\nGET AMAZING DEALS for Body and Face Transformations including Freezing Fat\, Non-Surgical Tummy Tuck\, Butt Lift\, Non-Surgical Facelift & Cosmetic Injectables.\nWatch Master Class Injectors erasing wrinkles in seconds with our injectable breakthroughs.\nWitness Live the next generation of body sculpting treatments from all over the world with the best event exclusive deals and specials ever seen.\nLearn about the science and technology behind our services and prepare to be INSPIRED!\nAsk The Experts your most burning beauty questions.\nWe will be offering affordable financing options on-site.\n\nCocktails | Prizes | Exclusive Offers | Hors D’Oeurves
URL:https://newyou.beauty/events/limited-time-offer-employee-only-pricing-port-credit/
CATEGORIES:Past Events
ATTACH;FMTTYPE=image/jpeg:https://newyou.beauty/wp-content/uploads/2020/06/2McHzqzLzi.jpg
ORGANIZER;CN="New%20You%20Spa":MAILTO:burlington@newyouspas.com
END:VEVENT
END:VCALENDAR